Workbook

Sheet Indtastning
A1: Skabelon B til dokumentation af ledelsestilsyn - Åben
A2: Denne skabelon kan anvendes til at dokumentere ledelsestilsynet. I dette første ark dokumenteres resultaterne af gennemgangen af den enkelte sag. I arket "Analyse" ses resultaterne. For at kunne analysere resultaterne anvendes faste svarkategorier. Nederst i arket findes et kommentarfelt, hvor det kan angives, hvis der er forhold i sagen, som ikke opfanges tilstrækkeligt af spørgsmål og svarkategorier. Besvarelsen laves ud fra de informationer, som faktisk er dokumenteret i sagen. Er det eksempelvis ikke dokumenteret, at der er gennemført en børnesamtale, svares "nej" til dette spørgsmål.
B3: Sag 1 | C3: Sag 2 | D3: Sag 3 | E3: Sag 4 | F3: Sag 5 | G3: Sag 6 | H3: Sag 7 | I3: Sag 8 | J3: Sag 9 | K3: Sag 10 | L3: Sag 11 | M3: Sag 12 | N3: Sag 13 | O3: Sag 14 | P3: Sag 15 | Q3: Sag 16 | R3: Sag 17 | S3: Sag 18 | T3: Sag 19 | U3: Sag 20 | V3: Sag 21 | W3: Sag 22 | X3: Sag 23 | Y3: Sag 24 | Z3: Sag 25 | AA3: Sag 26 | AB3: Sag 27 | AC3: Sag 28 | AD3: Sag 29 | AE3: Sag 30 | AF3: Sag 31 | AG3: Sag 32 | AH3: Sag 33 | AI3: Sag 34 | AJ3: Sag 35 | AK3: Sag 36 | AL3: Sag 37 | AM3: Sag 38 | AN3: Sag 39 | AO3: Sag 40 | AP3: Sag 41 | AQ3: Sag 42 | AR3: Sag 43 | AS3: Sag 44 | AT3: Sag 45 | AU3: Sag 46 | AV3: Sag 47 | AW3: Sag 48 | AX3: Sag 49 | AY3: Sag 50 | AZ3: Sag 51 | BA3: Sag 52 | BB3: Sag 53 | BC3: Sag 54 | BD3: Sag 55 | BE3: Sag 56 | BF3: Sag 57 | BG3: Sag 58 | BH3: Sag 59 | BI3: Sag 60 | BJ3: Sag 61 | BK3: Sag 62 | BL3: Sag 63 | BM3: Sag 64 | BN3: Sag 65 | BO3: Sag 66 | BP3: Sag 67 | BQ3: Sag 68 | BR3: Sag 69 | BS3: Sag 70 | BT3: Sag 71 | BU3: Sag 72 | BV3: Sag 73 | BW3: Sag 74 | BX3: Sag 75 | BY3: Sag 76 | BZ3: Sag 77 | CA3: Sag 78 | CB3: Sag 79 | CC3: Sag 80 | CD3: Sag 81 | CE3: Sag 82 | CF3: Sag 83 | CG3: Sag 84 | CH3: Sag 85 | CI3: Sag 86 | CJ3: Sag 87 | CK3: Sag 88 | CL3: Sag 89 | CM3: Sag 90 | CN3: Sag 91 | CO3: Sag 92 | CP3: Sag 93 | CQ3: Sag 94 | CR3: Sag 95 | CS3: Sag 96 | CT3: Sag 97 | CU3: Sag 98 | CV3: Sag 99 | CW3: Sag 100 | CX3: Sag 101 | CY3: Sag 102 | CZ3: Sag 103 | DA3: Sag 104 | DB3: Sag 105 | DC3: Sag 106 | DD3: Sag 107 | DE3: Sag 108 | DF3: Sag 109 | DG3: Sag 110 | DH3: Sag 111 | DI3: Sag 112 | DJ3: Sag 113 | DK3: Sag 114 | DL3: Sag 115 | DM3: Sag 116 | DN3: Sag 117 | DO3: Sag 118 | DP3: Sag 119 | DQ3: Sag 120 | DR3: Sag 121 | DS3: Sag 122 | DT3: Sag 123 | DU3: Sag 124 | DV3: Sag 125 | DW3: Sag 126 | DX3: Sag 127 | DY3: Sag 128 | DZ3: Sag 129 | EA3: Sag 130 | EB3: Sag 131 | EC3: Sag 132 | ED3: Sag 133 | EE3: Sag 134 | EF3: Sag 135 | EG3: Sag 136 | EH3: Sag 137 | EI3: Sag 138 | EJ3: Sag 139 | EK3: Sag 140 | EL3: Sag 141 | EM3: Sag 142 | EN3: Sag 143 | EO3: Sag 144 | EP3: Sag 145 | EQ3: Sag 146 | ER3: Sag 147 | ES3: Sag 148 | ET3: Sag 149 | EU3: Sag 150 | EV3: Sag 151 | EW3: Sag 152 | EX3: Sag 153 | EY3: Sag 154 | EZ3: Sag 155 | FA3: Sag 156 | FB3: Sag 157 | FC3: Sag 158 | FD3: Sag 159 | FE3: Sag 160 | FF3: Sag 161 | FG3: Sag 162 | FH3: Sag 163 | FI3: Sag 164 | FJ3: Sag 165 | FK3: Sag 166 | FL3: Sag 167 | FM3: Sag 168 | FN3: Sag 169 | FO3: Sag 170 | FP3: Sag 171 | FQ3: Sag 172 | FR3: Sag 173 | FS3: Sag 174 | FT3: Sag 175 | FU3: Sag 176 | FV3: Sag 177 | FW3: Sag 178 | FX3: Sag 179 | FY3: Sag 180 | FZ3: Sag 181 | GA3: Sag 182 | GB3: Sag 183 | GC3: Sag 184 | GD3: Sag 185 | GE3: Sag 186 | GF3: Sag 187 | GG3: Sag 188 | GH3: Sag 189 | GI3: Sag 190 | GJ3: Sag 191 | GK3: Sag 192 | GL3: Sag 193 | GM3: Sag 194 | GN3: Sag 195 | GO3: Sag 196 | GP3: Sag 197 | GQ3: Sag 198 | GR3: Sag 199 | GS3: Sag 200
A4: Stamdata
A5: CPR-nummer
A6: Navn
A7: Sagsbehandler
A8: Dato for ledelsestilsyn
A9: Visitation
A10: Er underretningerne registreret i journalen?
A11: Er der kvitteret for modtagelse af underretning?
A12: Er det indenfor 3 uger efter modtagelse vurderet, om sagen skal overdrages eller lukkes?
A13: Socialfaglig undersøgelse (§ 50)
A14: Er der vurderet behov for en § 50 (ellers besvares spørgsmålene som udredning)?
A15: Er der udarbejdet en undersøgelse/udredning?
... A70: Kommentarer

Sheet Analyse
A1: Analyse af resultater af ledelsestilsyn
A2: Visitation
B4: Er underretningen registreret i journalen? | G4: Er der kvitteret for modtagelse af underretning? | L4: Er det indenfor 3 uger efter modtagelse vurderet, om sagen skal overdrages eller lukkes?
C5: Antal | D5: Procent | H5: Antal | I5: Procent | M5: Antal | N5: Procent
B6: Ja | C6: =COUNTIF(Indtastning!$10:$10,Analyse!B6) -> 0 | D6: =C6/(SUM(C6:C7)) -> #DIV/0! | G6: Ja | H6: =COUNTIF(Indtastning!11:11,Analyse!G6) -> 0 | I6: =H6/(SUM(H6:H7)) -> #DIV/0! | L6: Ja | M6: =COUNTIF(Indtastning!12:12,Analyse!L6) -> 0 | N6: =M6/(SUM(M6:M7)) -> #DIV/0!
B7: Nej | C7: =COUNTIF(Indtastning!$10:$10,Analyse!B7) -> 0 | D7: =C7/(SUM(C6:C7)) -> #DIV/0! | G7: Nej | H7: =COUNTIF(Indtastning!11:11,Analyse!G7) -> 0 | I7: =H7/(SUM(H6:H7)) -> #DIV/0! | L7: Nej | M7: =COUNTIF(Indtastning!12:12,Analyse!L7) -> 0 | N7: =M7/(SUM(M6:M7)) -> #DIV/0!
B10: I alt | C10: =SUM(C6:C9) -> 0 | D10: =SUM(D6:D9) -> #DIV/0! | G10: I alt | H10: =SUM(H6:H9) -> 0 | I10: =SUM(I6:I9) -> #DIV/0! | L10: I alt | M10: =SUM(M6:M9) -> 0 | N10: =SUM(N6:N9) -> #DIV/0!
A12: Socialfaglig undersøgelse (§ 50)
B14: Er der vurderet behov for en § 50 (ellers besvares spørgsmålene som udredning)? | G14: Er der udarbejdet en undersøgelse/udredning? | L14: Vedrører den børnefaglige undersøgelse/supplement til børnefaglig undersøgelse den aktuelle foranstaltning?
C15: Antal | D15: Procent | H15: Antal | I15: Procent | M15: Antal | N15: Procent
B16: Ja | C16: =COUNTIF(Indtastning!14:14,Analyse!B16) -> 0 | D16: =C16/(SUM(C$16:C$17)) -> #DIV/0! | G16: Ja | H16: =COUNTIF(Indtastning!$15:$15,Analyse!G16) -> 0 | I16: =H16/SUM(H$16:H$18) -> #DIV/0! | L16: Ja | M16: =COUNTIF(Indtastning!$16:$16,Analyse!L16) -> 0 | N16: =M16/SUM(M$16:M$18) -> #DIV/0!
B17: Nej | C17: =COUNTIF(Indtastning!14:14,Analyse!B17) -> 0 | D17: =C17/(SUM(C$16:C$17)) -> #DIV/0! | G17: Nej | H17: =COUNTIF(Indtastning!$15:$15,Analyse!G17) -> 0 | I17: =H17/SUM(H$16:H$18) -> #DIV/0! | L17: Nej | M17: =COUNTIF(Indtastning!$16:$16,Analyse!L17) -> 0 | N17: =M17/SUM(M$16:M$18) -> #DIV/0!
G18: Ikke relevant | H18: =COUNTIF(Indtastning!$15:$15,Analyse!G18) -> 0 | I18: =H18/SUM(H$16:H$18) -> #DIV/0! | L18: Ingen udredning/undersøgelse | M18: =COUNTIF(Indtastning!$16:$16,Analyse!L18) -> 0 | N18: =M18/SUM(M$16:M$18) -> #DIV/0!
B20: I alt | C20: =SUM(C16:C19) -> 0 | D20: =SUM(D16:D19) -> #DIV/0! | G20: I alt | H20: =SUM(H16:H19) -> 0 | I20: =SUM(I16:I19) -> #DIV/0! | L20: I alt | M20: =SUM(M16:M19) -> 0 | N20: =SUM(N16:N19) -> #DIV/0!
B22: Er der indhentet samtykke til undersøgelsen fra forældre/ myndighedsindehaver? | G22: Er der indhentet samtykke til undersøgelsen fra den unge over 15 år? | L22: Er den børnefaglige undersøgelse gennemført indenfor fristen på 4 måneder?
C23: Antal | D23: Procent | H23: Antal | I23: Procent | M23: Antal | N23: Procent
B24: Ja | C24: =COUNTIF(Indtastning!$17:$17,Analyse!B24) -> 0 | D24: =C24/SUM(C$24:C$26) -> #DIV/0! | G24: Ja | H24: =COUNTIF(Indtastning!$18:$18,Analyse!G24) -> 0 | I24: =H24/SUM(H24:H27) -> #DIV/0! | L24: Ja | M24: =COUNTIF(Indtastning!$19:$19,Analyse!L24) -> 0 | N24: =M24/SUM(M$24:M$26) -> #DIV/0!
B25: Nej | C25: =COUNTIF(Indtastning!$17:$17,Analyse!B25) -> 0 | D25: =C25/SUM(C$24:C$26) -> #DIV/0! | G25: Nej | H25: =COUNTIF(Indtastning!$18:$18,Analyse!G25) -> 0 | I25: =H25/SUM(H24:H27) -> #DIV/0! | L25: Nej | M25: =COUNTIF(Indtastning!$19:$19,Analyse!L25) -> 0 | N25: =M25/SUM(M$24:M$26) -> #DIV/0!
B26: Ingen udredning/undersøgelse | C26: =COUNTIF(Indtastning!$17:$17,Analyse!B26) -> 0 | D26: =C26/SUM(C$24:C$26) -> #DIV/0! | G26: Ikke relevant | H26: =COUNTIF(Indtastning!$18:$18,Analyse!G26) -> 0 | I26: =H26/SUM(H24:H27) -> #DIV/0! | L26: Ingen udredning/undersøgelse | M26: =COUNTIF(Indtastning!$19:$19,Analyse!L26) -> 0 | N26: =M26/SUM(M$24:M$26) -> #DIV/0!
G27: Ingen udredning/undersøgelse | H27: =COUNTIF(Indtastning!$18:$18,Analyse!G27) -> 0 | I27: =H27/SUM(H24:H27) -> #DIV/0!
B28: I alt | C28: =SUM(C24:C27) -> 0 | D28: =SUM(D24:D27) -> #DIV/0! | G28: I alt | H28: =SUM(H24:H27) -> 0 | I28: =SUM(I24:I27) -> #DIV/0! | L28: I alt | M28: =SUM(M24:M27) -> 0 | N28: =SUM(N24:N27) -> #DIV/0!
B30: Er den børnefaglige undersøgelse udarbejdet forud for afgørelsen? | G30: Hvis nej, er der en midlertidig handleplan? | L30: Er der gennemført børnesamtale?
C31: Antal | D31: Procent | H31: Antal | I31: Procent | M31: Antal | N31: Procent
B32: Ja | C32: =COUNTIF(Indtastning!$20:$20,Analyse!B32) -> 0 | D32: =C32/SUM(C$32:C$34) -> #DIV/0! | G32: Ja | H32: =COUNTIF(Indtastning!$21:$21,Analyse!G32) -> 0 | I32: =H32/SUM(H$32:H$34) -> #DIV/0! | L32: Ja | M32: =COUNTIF(Indtastning!$22:$22,Analyse!L32) -> 0 | N32: =M32/(SUM(M32:M34)) -> #DIV/0!
B33: Nej | C33: =COUNTIF(Indtastning!$20:$20,Analyse!B33) -> 0 | D33: =C33/SUM(C$32:C$34) -> #DIV/0! | G33: Nej | H33: =COUNTIF(Indtastning!$21:$21,Analyse!G33) -> 0 | I33: =H33/SUM(H$32:H$34) -> #DIV/0! | L33: Nej | M33: =COUNTIF(Indtastning!$22:$22,Analyse!L33) -> 0 | N33: =M33/(SUM(M32:M34)) -> #DIV/0!
B34: Ingen udredning/undersøgelse | C34: =COUNTIF(Indtastning!$20:$20,Analyse!B34) -> 0 | D34: =C34/SUM(C$32:C$34) -> #DIV/0! | L34: Ingen udredning/undersøgelse | M34: =COUNTIF(Indtastning!$22:$22,Analyse!L34) -> 0 | N34: =M34/(SUM(M32:M34)) -> #DIV/0!
B36: I alt | C36: =SUM(C32:C35) -> 0 | D36: =SUM(D32:D35) -> #DIV/0! | G36: I alt | H36: =SUM(H32:H35) -> 0 | I36: =SUM(I32:I35) -> #DIV/0! | L36: I alt | M36: =SUM(M32:M35) -> 0 | N36: =SUM(N32:N35) -> #DIV/0!
B38: Er alle de relevante behovsområder beskrevet? | G38: Er både barnets og forældrenes problemer og ressourcer afdækket? | L38: Fremgår det, hvem der er kilde til de forskellige oplysninger?
C39: Antal | D39: Procent | H39: Antal | I39: Procent | M39: Antal | N39: Procent
B40: Ja | C40: =COUNTIF(Indtastning!$23:$23,Analyse!B40) -> 0 | D40: =C40/SUM(C40:C43) -> #DIV/0! | G40: Ja | H40: =COUNTIF(Indtastning!$24:$24,Analyse!G40) -> 0 | I40: =H40/SUM(H40:H43) -> #DIV/0! | L40: Ja | M40: =COUNTIF(Indtastning!$25:$25,Analyse!L40) -> 0 | N40: =M40/SUM(M40:M43) -> #DIV/0!
B41: Delvist | C41: =COUNTIF(Indtastning!$23:$23,Analyse!B41) -> 0 | D41: =C41/SUM(C40:C43) -> #DIV/0! | G41: Delvist | H41: =COUNTIF(Indtastning!$24:$24,Analyse!G41) -> 0 | I41: =H41/SUM(H40:H43) -> #DIV/0! | L41: Delvist | M41: =COUNTIF(Indtastning!$25:$25,Analyse!L41) -> 0 | N41: =M41/SUM(M40:M43) -> #DIV/0!
B42: Nej | C42: =COUNTIF(Indtastning!$23:$23,Analyse!B42) -> 0 | D42: =C42/SUM(C40:C43) -> #DIV/0! | G42: Nej | H42: =COUNTIF(Indtastning!$24:$24,Analyse!G42) -> 0 | I42: =H42/SUM(H40:H43) -> #DIV/0! | L42: Nej | M42: =COUNTIF(Indtastning!$25:$25,Analyse!L42) -> 0 | N42: =M42/SUM(M40:M43) -> #DIV/0!
B43: Ingen udredning/undersøgelse | C43: =COUNTIF(Indtastning!$23:$23,Analyse!B43) -> 0 | D43: =C43/SUM(C40:C43) -> #DIV/0! | G43: Ingen udredning/undersøgelse | H43: =COUNTIF(Indtastning!$24:$24,Analyse!G43) -> 0 | I43: =H43/SUM(H40:H43) -> #DIV/0! | L43: Ingen udredning/undersøgelse | M43: =COUNTIF(Indtastning!$25:$25,Analyse!L43) -> 0 | N43: =M43/SUM(M40:M43) -> #DIV/0!
B44: I alt | C44: =SUM(C40:C43) -> 0 | D44: =SUM(D40:D43) -> #DIV/0! | G44: I alt | H44: =SUM(H40:H43) -> 0 | I44: =SUM(I40:I43) -> #DIV/0! | L44: I alt | M44: =SUM(M40:M43) -> 0 | N44: =SUM(N40:N43) -> #DIV/0!
B46: I handicapsager og ved anvendelse af resultatdokumentation: Er funktionsniveauet anvendt? | G46: Omfatter undersøgelsen partshøring fra forældre og/eller den unge over 15 år? | L46: Svarer omfanget af undersøgelsen til formålet?
C47: Antal | D47: Procent | H47: Antal | I47: Procent | M47: Antal | N47: Procent
B48: Ja | C48: =COUNTIF(Indtastning!$26:$26,Analyse!B48) -> 0 | D48: =C48/SUM(C48:C51) -> #DIV/0! | G48: Ja | H48: =COUNTIF(Indtastning!$27:$27,Analyse!G48) -> 0 | I48: =H48/SUM(H$48:H$50) -> #DIV/0! | L48: Ja | M48: =COUNTIF(Indtastning!$28:$28,Analyse!L48) -> 0 | N48: =M48/SUM(M48:M51) -> #DIV/0!
B49: Delvist | C49: =COUNTIF(Indtastning!$26:$26,Analyse!B49) -> 0 | D49: =C49/SUM(C48:C51) -> #DIV/0! | G49: Nej | H49: =COUNTIF(Indtastning!$27:$27,Analyse!G49) -> 0 | I49: =H49/SUM(H$48:H$50) -> #DIV/0! | L49: Delvist | M49: =COUNTIF(Indtastning!$28:$28,Analyse!L49) -> 0 | N49: =M49/SUM(M48:M51) -> #DIV/0!
B50: Nej | C50: =COUNTIF(Indtastning!$26:$26,Analyse!B50) -> 0 | D50: =C50/SUM(C48:C51) -> #DIV/0! | G50: Ingen udredning/undersøgelse | H50: =COUNTIF(Indtastning!$27:$27,Analyse!G50) -> 0 | I50: =H50/SUM(H$48:H$50) -> #DIV/0! | L50: Nej | M50: =COUNTIF(Indtastning!$28:$28,Analyse!L50) -> 0 | N50: =M50/SUM(M48:M51) -> #DIV/0!
B51: Ingen udredning/undersøgelse | C51: =COUNTIF(Indtastning!$26:$26,Analyse!B51) -> 0 | D51: =C51/SUM(C48:C51) -> #DIV/0! | L51: Ingen udredning/undersøgelse | M51: =COUNTIF(Indtastning!$28:$28,Analyse!L51) -> 0 | N51: =M51/SUM(M48:M51) -> #DIV/0!
...

Sheet Svarkategorier
A1: Stamdata | B1: Svarmuligheder
A2: CPR-nummer | B2: Fritekst
A3: Navn | B3: Fritekst
A4: Sagsbehandler | B4: Fritekst
A5: Dato for ledelsestilsyn | B5: Fritekst
A6: Visitation
A7: Er underretningen registreret i journalen? | B7: Ja | C7: Nej
A8: Er der kvitteret for modtagelse af underretning? | B8: Ja | C8: Nej
A9: Er det inden for 3 uger efter modtagelse vurderet, om sagen skal overdrages eller lukkes? | B9: Ja | C9: Nej
A10: Socialfaglig undersøgelse (§ 50)
A11: Er der vurderet behov for en §50 (ellers besvares spørgsmålene som udredning)? | B11: Ja | C11: Nej
A12: Er der udarbejdet en undersøgelse/udredning? | B12: Ja | C12: Nej | D12: Ikke relevant
A13: Er der indhentet samtykke til undersøgelsen fra forældre/ myndighedsindehaver? | B13: Ja | C13: Nej | D13: Ingen udredning/undersøgelse
A14: Er der indhentet samtykke til undersøgelsen fra den unge over 15 år? | B14: Ja | C14: Nej | D14: Ikke relevant | E14: Ingen udredning/undersøgelse
A15: Er den børnefaglige undersøgelse gennemført inden for fristen på 4 måneder? | B15: Ja | C15: Nej | D15: Ingen udredning/undersøgelse
A16: Er den børnefaglige undersøgelse udarbejdet forud for afgørelsen? | B16: Ja | C16: Nej | D16: Ingen udredning/undersøgelse
A17: Hvis nej, er der en midlertidig handleplan? | B17: Ja | C17: Nej
A18: Er der gennemført børnesamtale? | B18: Ja | C18: Nej | D18: Ingen udredning/undersøgelse
A19: Er alle de relevante behovsområder beskrevet? | B19: Ja | C19: Delvist | D19: Nej | E19: Ingen udredning/undersøgelse
A20: Er både barnets og forældrenes problemer og ressourcer afdækket? | B20: Ja | C20: Delvist | D20: Nej | E20: Ingen udredning/undersøgelse
A21: Fremgår det, hvem der er kilde til de forskellige oplysninger? | B21: Ja | C21: Delvist | D21: Nej | E21: Ingen udredning/undersøgelse
A22: I handicapsager og ved anvendelse af resultatdokumentation: Er funktionsniveauet anvendt? | B22: Ja | C22: Delvist | D22: Nej | E22: Ingen udredning/undersøgelse
A23: Omfatter undersøgelsen partshøring fra forældre og/eller den unge over 15 år? | B23: Ja | C23: Nej | D23: Ingen udredning/undersøgelse
A24: Svarer omfanget af undersøgelsen til formålet? | B24: Ja | C24: Delvist | D24: Nej | E24: Ingen udredning/undersøgelse
A25: Samlet faglig vurdering
A26: Er analysen dækkende, nuanceret og tilstrækkelig? | B26: Ja | C26: Delvist | D26: Nej | E26: Ingen faglig vurdering
A27: Ved handicapsager – er målgruppevurderingen tilstrækkelig? | B27: Ja | C27: Delvist | D27: Nej | E27: Ingen faglig vurdering
A28: Ved handicapsager og anvendelse af resultatdokumentation: Er det samlede funktionsniveau angivet? | B28: Ja | C28: Delvist | D28: Nej | E28: Ingen faglig vurdering
A29: Er den faglige vurdering dækkende ift. de centrale problemstillinger og ressourcer for barnet/den unge og familien? | B29: Ja | C29: Delvist | D29: Nej | E29: Ingen faglig vurdering
A30: Indeholder den faglige vurdering en begrundet stillingtagen til barnets/den unges situation, støttebehov og relevant indsats? | B30: Ja | C30: Delvist | D30: Nej | E30: Ingen faglig vurdering
A31: Er der sammenhæng mellem den faglige vurdering og foranstaltningen? | B31: Ja | C31: Delvist | D31: Nej | E31: Ingen faglig vurdering
A32: Handleplan (§140)
A33: Er der udarbejdet en handleplan for indsatsen? | B33: Ja | C33: Nej
A34: Omfatter handleplanen konkrete mål for de forskellige behovsområder? | B34: Ja | C34: Delvist | D34: Nej | E34: Ingen handleplan
A35: Imødekommer målene de behov, som er beskrevet i den faglige vurdering? | B35: Ja | C35: Delvist | D35: Nej | E35: Ingen handleplan
A36: Angives der i handleplanen en forventning til foranstaltningens varighed? | B36: Ja | C36: Nej | D36: Ingen handleplan
A37: Afgørelser og serviceniveau
A38: Foreligger der en aktuel afgørelse i sagen? | B38: Ja | C38: Nej
A39: Er barnet/den unge blevet tilbudt en samtale, inden der blev truffet afgørelse? | B39: Ja | C39: Nej | D39: Ingen afgørelse
A40: Er barnets/den unges holdning forsøgt tilvejebragt på anden vis end via en samtale? | B40: Ja | C40: Nej | D40: Ingen afgørelse
...
